BEGIN:VCALENDAR
VERSION:2.0
PRODID:-//HER Foundation - ECPv6.15.16.1//NONSGML v1.0//EN
CALSCALE:GREGORIAN
METHOD:PUBLISH
X-WR-CALNAME:HER Foundation
X-ORIGINAL-URL:https://www.hyperemesis.org
X-WR-CALDESC:Events for HER Foundation
REFRESH-INTERVAL;VALUE=DURATION:PT1H
X-Robots-Tag:noindex
X-PUBLISHED-TTL:PT1H
BEGIN:VTIMEZONE
TZID:America/Los_Angeles
BEGIN:DAYLIGHT
TZOFFSETFROM:-0800
TZOFFSETTO:-0700
TZNAME:PDT
DTSTART:20230312T100000
END:DAYLIGHT
BEGIN:STANDARD
TZOFFSETFROM:-0700
TZOFFSETTO:-0800
TZNAME:PST
DTSTART:20231105T090000
END:STANDARD
BEGIN:DAYLIGHT
TZOFFSETFROM:-0800
TZOFFSETTO:-0700
TZNAME:PDT
DTSTART:20240310T100000
END:DAYLIGHT
BEGIN:STANDARD
TZOFFSETFROM:-0700
TZOFFSETTO:-0800
TZNAME:PST
DTSTART:20241103T090000
END:STANDARD
BEGIN:DAYLIGHT
TZOFFSETFROM:-0800
TZOFFSETTO:-0700
TZNAME:PDT
DTSTART:20250309T100000
END:DAYLIGHT
BEGIN:STANDARD
TZOFFSETFROM:-0700
TZOFFSETTO:-0800
TZNAME:PST
DTSTART:20251102T090000
END:STANDARD
END:VTIMEZONE
BEGIN:VEVENT
DTSTART;VALUE=DATE:20240429
DTEND;VALUE=DATE:20240506
DTSTAMP:20260422T083559
CREATED:20240503T194630Z
LAST-MODIFIED:20240503T194630Z
UID:11334-1714348800-1714953599@www.hyperemesis.org
SUMMARY:Maternal Mental Health Awareness Week
DESCRIPTION:During Maternal Mental Health Awareness Week\, we’re reminded of the unique challenges faced by mothers\, particularly those with Hyperemesis Gravidarum (HG). HG is not just a physical condition; it significantly impacts mental health. \n*HG patients have significantly increased risk of maternal mental health diagnosis secondary to HG including PTSD\, depression\, and anxiety. \nLearn more about:\n\nPMADs\nPTSD\nResearch\nHER Support Groups\n\nShare the facts:\n \n~1 in 2 of HG patients are diagnosed with postpartum Mood and Anxiety Disorder (Tain et al.\, 2016). \nHG is one of the top 4 predictors of Postpartum Depression (Munk-Olsen et. al.\, 2022). \n26% of HG patients experience suicidal ideations (Nana et. al.\, 2022). \n18% of HG patients meet full criteria of PTSD (Christodoulou et al.\, 2011). \nA little over 1/2 (52%) considered termination (Nana et al.\, 2022). \n80% of women who experienced HG report negative psychosocial outcome(s) or economic consequences (Poursharif et al.\, 2007). \nWHAT IS HG?\nAt least 1 million women are estimated to suffer from a serious pregnancy disease each year that takes the lives of thousands of babies (and some mothers) due to chronic malnutrition and dehydration from debilitating nausea and vomiting. The disease known as HG (hyperemesis gravidarum) is often misunderstood\, unrecognized or assumed to be psychological\, and thus is inadequately treated. This means women suffer to the point of being traumatized\, choosing therapeutic termination\, or having serious short and long-term health issues. The children\, too often\, are affected as well. With proper treatment\, most issues can be minimized or prevented\, and the impact can be reduced. Be HG aware\, educate others\, and donate to support education and research (HG research rarely gets grant funding!!). \n*HG: hyperemesis gravidarum (hyper = excessive\, emesis = vomiting\, gravidarum = in pregnancy) \n**Hyperemesis Gravidarum (HG) is a debilitating and potentially life-threatening pregnancy disease marked by rapid weight loss\, malnutrition\, and dehydration due to unrelenting nausea and/or vomiting with potential adverse consequences for the mom-to-be and the newborn(s).
URL:https://www.hyperemesis.org/event/maternal-mental-health-awareness-week/
CATEGORIES:Awareness Week
ATTACH;FMTTYPE=image/png:https://www.hyperemesis.org/wp-content/uploads/2024/05/Maternal-Mental-Health.png
END:VEVENT
BEGIN:VEVENT
DTSTART;VALUE=DATE:20240501
DTEND;VALUE=DATE:20240601
DTSTAMP:20260422T083559
CREATED:20240423T000418Z
LAST-MODIFIED:20240424T171256Z
UID:11238-1714521600-1717199999@www.hyperemesis.org
SUMMARY:HG Awareness Month 2024
DESCRIPTION:Join the HER Foundation as we raise awareness about HG Hope during HG Awareness Month\, May 2024.\nThe annual theme is decided in collaboration with leaders of HG organizations and groups from across the globe.  \nFrom our exciting new research finding GDF15 is the cause of HG\, new HG clinics offering specialty care\, and our many clinical resources\, we believe the future for those with HG will be different.  \nOur theme for HG Awareness Month is HOPE.  \n\nWhat do you hope will change? \nWhat do you hope changes in HG treatment? How would you like to see providers change their treatment of HG?\nWhat do you wish others understood about HG? \nWhat do you feel needs to change in order for HG to be a priority?\nWhat do you hope is different for the next generation of children?\n\nBE INVOLVED DURING HGAM\n\nSHARE your HG story and SEND us your HG hope quote.\nSHARE your HG pictures.\nCREATE and SEND your HG memes.\nFUNDRAISE for HG education & research.\nINVITE others to follow the HER Foundation and learn more about HG.\nDONATE to the HER Foundation.\nSUBSCRIBE to receive updates.\nUSE the hashtags on your social: #HGAM24 #HGAD24 #HGhope\nSTAY UP TO DATE with the upcoming events!\n\n___ \nWHAT IS HG?\nAt least 1 million women are estimated to suffer from a serious pregnancy disease each year that takes the lives of thousands of babies (and some mothers) due to chronic malnutrition and dehydration from debilitating nausea and vomiting. The disease known as HG (hyperemesis gravidarum) is often misunderstood\, unrecognized or assumed to be psychological\, and thus is inadequately treated. This means women suffer to the point of being traumatized\, choosing therapeutic termination\, or having serious short and long-term health issues. The children\, too often\, are affected as well. With proper treatment\, most issues can be minimized or prevented\, and the impact can be reduced. Be HG aware\, educate others\, and donate to support education and research (HG research rarely gets grant funding!!). \n*HG: hyperemesis gravidarum (hyper = excessive\, emesis = vomiting\, gravidarum = in pregnancy) \n**Hyperemesis Gravidarum (HG) is a debilitating and potentially life-threatening pregnancy disease marked by rapid weight loss\, malnutrition\, and dehydration due to unrelenting nausea and/or vomiting with potential adverse consequences for the mom-to-be and the newborn(s). \n  \n©2024 HER Foundation. All rights reserved.
URL:https://www.hyperemesis.org/event/hgam2024/
CATEGORIES:Awareness Month,Featured
END:VEVENT
BEGIN:VEVENT
DTSTART;VALUE=DATE:20240505
DTEND;VALUE=DATE:20240506
DTSTAMP:20260422T083559
CREATED:20240505T013547Z
LAST-MODIFIED:20240505T013547Z
UID:11337-1714867200-1714953599@www.hyperemesis.org
SUMMARY:Bereaved Mother's Day
DESCRIPTION:Bereaved Mother’s Day is the first Sunday in May each year. This is a day for mothers and parents to remember the children they have lost.  HG increases the risk of miscarriage\, unwanted termination\, stillbirth\, and neonatal loss. We know the grief is great\, but all of us at the HER Foundation are here for you. You are not alone. \nHyperemesis Gravidarum (HG) not only impacts physical health but also increases the risk of miscarriage\, unwanted termination\, stillbirth\, and neonatal loss. We envision a future where no one has to endure such suffering due to HG. #HGhope \nHER resources: \n\nHER memorial page\nHER Loss Support Group\nGrief Information
URL:https://www.hyperemesis.org/event/bereaved-mothers-day/
CATEGORIES:Awareness Day
END:VEVENT
END:VCALENDAR